BEGIN:VCALENDAR
VERSION:2.0
PRODID:-//CSMJ - ECPv6.15.18//NONSGML v1.0//EN
CALSCALE:GREGORIAN
METHOD:PUBLISH
X-ORIGINAL-URL:https://csmj.fr
X-WR-CALDESC:Évènements pour CSMJ
REFRESH-INTERVAL;VALUE=DURATION:PT1H
X-Robots-Tag:noindex
X-PUBLISHED-TTL:PT1H
BEGIN:VTIMEZONE
TZID:Europe/Paris
BEGIN:DAYLIGHT
TZOFFSETFROM:+0100
TZOFFSETTO:+0200
TZNAME:CEST
DTSTART:20250330T010000
END:DAYLIGHT
BEGIN:STANDARD
TZOFFSETFROM:+0200
TZOFFSETTO:+0100
TZNAME:CET
DTSTART:20251026T010000
END:STANDARD
BEGIN:DAYLIGHT
TZOFFSETFROM:+0100
TZOFFSETTO:+0200
TZNAME:CEST
DTSTART:20260329T010000
END:DAYLIGHT
BEGIN:STANDARD
TZOFFSETFROM:+0200
TZOFFSETTO:+0100
TZNAME:CET
DTSTART:20261025T010000
END:STANDARD
BEGIN:DAYLIGHT
TZOFFSETFROM:+0100
TZOFFSETTO:+0200
TZNAME:CEST
DTSTART:20270328T010000
END:DAYLIGHT
BEGIN:STANDARD
TZOFFSETFROM:+0200
TZOFFSETTO:+0100
TZNAME:CET
DTSTART:20271031T010000
END:STANDARD
END:VTIMEZONE
BEGIN:VEVENT
DTSTART;VALUE=DATE:20260427
DTEND;VALUE=DATE:20260501
DTSTAMP:20260423T133400
CREATED:20260416T093902Z
LAST-MODIFIED:20260416T093902Z
UID:1224-1777248000-1777593599@csmj.fr
SUMMARY:Centre Social Itinérant - Ansauvillers
DESCRIPTION:La caravane du centre social sera stationnée sur le parking de la salle des fêtes d’Ansauvillers du lundi 27 mai au jeudi 30 mai 2026. \nVenez découvrir tous les services du centre social sur votre commune !
URL:https://csmj.fr/evenements/centre-social-itinerant-ansauvillers/
CATEGORIES:Centre Social Itinérant,Permanences
ORGANIZER;CN="Centre Socioculturel Michel Jubert":MAILTO:accueil@csmj.fr
END:VEVENT
END:VCALENDAR