BEGIN:VCALENDAR
VERSION:2.0
PRODID:-//CSMJ - ECPv6.15.18//NONSGML v1.0//EN
CALSCALE:GREGORIAN
METHOD:PUBLISH
X-WR-CALNAME:CSMJ
X-ORIGINAL-URL:https://csmj.fr
X-WR-CALDESC:Évènements pour CSMJ
REFRESH-INTERVAL;VALUE=DURATION:PT1H
X-Robots-Tag:noindex
X-PUBLISHED-TTL:PT1H
BEGIN:VTIMEZONE
TZID:Europe/Paris
BEGIN:DAYLIGHT
TZOFFSETFROM:+0100
TZOFFSETTO:+0200
TZNAME:CEST
DTSTART:20250330T010000
END:DAYLIGHT
BEGIN:STANDARD
TZOFFSETFROM:+0200
TZOFFSETTO:+0100
TZNAME:CET
DTSTART:20251026T010000
END:STANDARD
BEGIN:DAYLIGHT
TZOFFSETFROM:+0100
TZOFFSETTO:+0200
TZNAME:CEST
DTSTART:20260329T010000
END:DAYLIGHT
BEGIN:STANDARD
TZOFFSETFROM:+0200
TZOFFSETTO:+0100
TZNAME:CET
DTSTART:20261025T010000
END:STANDARD
BEGIN:DAYLIGHT
TZOFFSETFROM:+0100
TZOFFSETTO:+0200
TZNAME:CEST
DTSTART:20270328T010000
END:DAYLIGHT
BEGIN:STANDARD
TZOFFSETFROM:+0200
TZOFFSETTO:+0100
TZNAME:CET
DTSTART:20271031T010000
END:STANDARD
END:VTIMEZONE
BEGIN:VEVENT
DTSTART;TZID=Europe/Paris:20260219T140000
DTEND;TZID=Europe/Paris:20260219T163000
DTSTAMP:20260423T203039
CREATED:20260209T154352Z
LAST-MODIFIED:20260209T154352Z
UID:955-1771509600-1771518600@csmj.fr
SUMMARY:Atelier "Réparons Ensemble à l'Espace Numérique"
DESCRIPTION:
URL:https://csmj.fr/evenements/atelier-reparons-ensemble-a-lespace-numerique/
LOCATION:Espace Numérique\, 4 rue Raoul Levavasseur\, Breteuil-sur-Noye\, 60120
CATEGORIES:Ateliers mensuels
ORGANIZER;CN="Centre Socioculturel Michel Jubert":MAILTO:accueil@csmj.fr
END:VEVENT
END:VCALENDAR