BEGIN:VCALENDAR
VERSION:2.0
PRODID:-//CSMJ - ECPv6.15.18//NONSGML v1.0//EN
CALSCALE:GREGORIAN
METHOD:PUBLISH
X-WR-CALNAME:CSMJ
X-ORIGINAL-URL:https://csmj.fr
X-WR-CALDESC:Évènements pour CSMJ
REFRESH-INTERVAL;VALUE=DURATION:PT1H
X-Robots-Tag:noindex
X-PUBLISHED-TTL:PT1H
BEGIN:VTIMEZONE
TZID:Europe/Paris
BEGIN:DAYLIGHT
TZOFFSETFROM:+0100
TZOFFSETTO:+0200
TZNAME:CEST
DTSTART:20250330T010000
END:DAYLIGHT
BEGIN:STANDARD
TZOFFSETFROM:+0200
TZOFFSETTO:+0100
TZNAME:CET
DTSTART:20251026T010000
END:STANDARD
BEGIN:DAYLIGHT
TZOFFSETFROM:+0100
TZOFFSETTO:+0200
TZNAME:CEST
DTSTART:20260329T010000
END:DAYLIGHT
BEGIN:STANDARD
TZOFFSETFROM:+0200
TZOFFSETTO:+0100
TZNAME:CET
DTSTART:20261025T010000
END:STANDARD
BEGIN:DAYLIGHT
TZOFFSETFROM:+0100
TZOFFSETTO:+0200
TZNAME:CEST
DTSTART:20270328T010000
END:DAYLIGHT
BEGIN:STANDARD
TZOFFSETFROM:+0200
TZOFFSETTO:+0100
TZNAME:CET
DTSTART:20271031T010000
END:STANDARD
END:VTIMEZONE
BEGIN:VEVENT
DTSTART;TZID=Europe/Paris:20260316T080000
DTEND;TZID=Europe/Paris:20260320T170000
DTSTAMP:20260423T133953
CREATED:20260213T093532Z
LAST-MODIFIED:20260213T093532Z
UID:1116-1773648000-1774026000@csmj.fr
SUMMARY:Semaine de la Petite Enfance et de la Parentalité
DESCRIPTION:Programmation des ateliers\, conférences et activités à venir…
URL:https://csmj.fr/evenements/semaine-de-la-petite-enfance-et-de-la-parentalite/
CATEGORIES:Événements du Centre Socioculturel
ORGANIZER;CN="Centre Socioculturel Michel Jubert":MAILTO:accueil@csmj.fr
END:VEVENT
BEGIN:VEVENT
DTSTART;TZID=Europe/Paris:20260318T100000
DTEND;TZID=Europe/Paris:20260318T120000
DTSTAMP:20260423T133953
CREATED:20260209T153904Z
LAST-MODIFIED:20260209T153904Z
UID:953-1773828000-1773835200@csmj.fr
SUMMARY:Atelier puériculture - "Parler avec bébé"
DESCRIPTION:Pour les parents et futurs parents
URL:https://csmj.fr/evenements/atelier-puericulture-parler-avec-bebe/
LOCATION:Le Forum\, 91 rue d'Amiens\, Breteuil-sur-Noye\, 60120
CATEGORIES:Ateliers ponctuels
ORGANIZER;CN="Centre Socioculturel Michel Jubert":MAILTO:accueil@csmj.fr
END:VEVENT
BEGIN:VEVENT
DTSTART;TZID=Europe/Paris:20260318T133000
DTEND;TZID=Europe/Paris:20260318T153000
DTSTAMP:20260423T133953
CREATED:20260209T153702Z
LAST-MODIFIED:20260209T153702Z
UID:950-1773840600-1773847800@csmj.fr
SUMMARY:Atelier puériculture - "Le Sommeil de Bébé et du jeune enfant"
DESCRIPTION:Pour les parents et futurs parents
URL:https://csmj.fr/evenements/atelier-puericulture-le-sommeil-de-bebe-et-du-jeune-enfant/
LOCATION:Le Forum\, 91 rue d'Amiens\, Breteuil-sur-Noye\, 60120
CATEGORIES:Ateliers ponctuels
ORGANIZER;CN="Centre Socioculturel Michel Jubert":MAILTO:accueil@csmj.fr
END:VEVENT
BEGIN:VEVENT
DTSTART;TZID=Europe/Paris:20260330T080000
DTEND;TZID=Europe/Paris:20260403T170000
DTSTAMP:20260423T133953
CREATED:20260213T093739Z
LAST-MODIFIED:20260213T093739Z
UID:1118-1774857600-1775235600@csmj.fr
SUMMARY:Caravane Itinérante - Bacouël
DESCRIPTION:Sur cette semaine\, la caravane du Centre Social et ses services s’installera sur la commune de Bacouël. \nProgrammation à venir… \n 
URL:https://csmj.fr/evenements/caravane-itinerante-bacouel/
ORGANIZER;CN="Centre Socioculturel Michel Jubert":MAILTO:accueil@csmj.fr
END:VEVENT
END:VCALENDAR