BEGIN:VCALENDAR
VERSION:2.0
PRODID:-//CSMJ - ECPv6.15.18//NONSGML v1.0//EN
CALSCALE:GREGORIAN
METHOD:PUBLISH
X-ORIGINAL-URL:https://csmj.fr
X-WR-CALDESC:Évènements pour CSMJ
REFRESH-INTERVAL;VALUE=DURATION:PT1H
X-Robots-Tag:noindex
X-PUBLISHED-TTL:PT1H
BEGIN:VTIMEZONE
TZID:Europe/Paris
BEGIN:DAYLIGHT
TZOFFSETFROM:+0100
TZOFFSETTO:+0200
TZNAME:CEST
DTSTART:20250330T010000
END:DAYLIGHT
BEGIN:STANDARD
TZOFFSETFROM:+0200
TZOFFSETTO:+0100
TZNAME:CET
DTSTART:20251026T010000
END:STANDARD
BEGIN:DAYLIGHT
TZOFFSETFROM:+0100
TZOFFSETTO:+0200
TZNAME:CEST
DTSTART:20260329T010000
END:DAYLIGHT
BEGIN:STANDARD
TZOFFSETFROM:+0200
TZOFFSETTO:+0100
TZNAME:CET
DTSTART:20261025T010000
END:STANDARD
BEGIN:DAYLIGHT
TZOFFSETFROM:+0100
TZOFFSETTO:+0200
TZNAME:CEST
DTSTART:20270328T010000
END:DAYLIGHT
BEGIN:STANDARD
TZOFFSETFROM:+0200
TZOFFSETTO:+0100
TZNAME:CET
DTSTART:20271031T010000
END:STANDARD
END:VTIMEZONE
BEGIN:VEVENT
DTSTART;TZID=Europe/Paris:20260507T140000
DTEND;TZID=Europe/Paris:20260507T163000
DTSTAMP:20260423T133432
CREATED:20260416T094051Z
LAST-MODIFIED:20260416T094051Z
UID:1227-1778162400-1778171400@csmj.fr
SUMMARY:Café Réparation
DESCRIPTION:Essayez de réparer vos objets en panne avec l’aide de bénévoles compétents\, autour d’un café et d’un moment convivial !
URL:https://csmj.fr/evenements/cafe-reparation/
LOCATION:Espace Numérique\, 4 rue Raoul Levavasseur\, Breteuil-sur-Noye\, 60120
CATEGORIES:Ateliers mensuels
ORGANIZER;CN="Centre Socioculturel Michel Jubert":MAILTO:accueil@csmj.fr
END:VEVENT
BEGIN:VEVENT
DTSTART;TZID=Europe/Paris:20260529T100000
DTEND;TZID=Europe/Paris:20260529T170000
DTSTAMP:20260423T133432
CREATED:20260416T090009Z
LAST-MODIFIED:20260416T094705Z
UID:1229-1780048800-1780074000@csmj.fr
SUMMARY:Collecte Alimentaire
DESCRIPTION:Plus d’informations à venir…
URL:https://csmj.fr/evenements/collecte-alimentaire/
CATEGORIES:Événements du Centre Socioculturel
ORGANIZER;CN="Centre Socioculturel Michel Jubert":MAILTO:accueil@csmj.fr
END:VEVENT
END:VCALENDAR